BEGIN:VCALENDAR
PRODID:-//Solspace/Calendar//EN
VERSION:2.0
CALSCALE:GREGORIAN
BEGIN:VEVENT
UID:3122e9d77b0524353e5e46bbd69e2062@solspace.com
DTSTAMP:20260423T010901
DTSTART:20210828T080000
DTEND:20210828T090000
SUMMARY:STAC 5K Skedaddle
END:VEVENT
BEGIN:VEVENT
UID:b053855a16710d95c937a6a009407c5b@solspace.com
DTSTAMP:20260423T010901
DTSTART:20221028T173000
DTEND:20221028T190000
SUMMARY:WWAMI Reserch Symposium 2022
END:VEVENT
BEGIN:VEVENT
UID:4d6a3340e9629ff347d79cdee662f0ed@solspace.com
DTSTAMP:20260423T010901
DTSTART:20221203T100000
DTEND:20221203T150000
SUMMARY:Pinecone Gift Shop Holiday Open House
END:VEVENT
BEGIN:VEVENT
UID:b74a53ec9aeab861361a4834d21a1acd@solspace.com
DTSTAMP:20260423T010901
DTSTART:20221204T133000
DTEND:20221204T143000
RRULE:FREQ=MONTHLY;BYDAY=1SU
SUMMARY:Walk With A Doc
END:VEVENT
BEGIN:VEVENT
UID:559d52bdef5992300ea3c9cf3e54aff5@solspace.com
DTSTAMP:20260423T010901
DTSTART:20230115T133000
DTEND:20230115T143000
RRULE:FREQ=MONTHLY;BYDAY=3SU
SUMMARY:Walk With A Doc
END:VEVENT
BEGIN:VEVENT
UID:f30a9a75b5ec1eabe4205259228d1182@solspace.com
DTSTAMP:20260423T010901
DTSTART:20230306T170000
DTEND:20230306T190000
SUMMARY:1973 Time Capsule Opening
END:VEVENT
BEGIN:VEVENT
UID:292962b6a90c8b725373026e4cf09b8a@solspace.com
DTSTAMP:20260423T010901
DTSTART:20230401T090000
DTEND:20230401T120000
SUMMARY:Early Childhood Fair - Ivinson Booth
END:VEVENT
BEGIN:VEVENT
UID:85677a4daaaa83ae1ea449973fd72e91@solspace.com
DTSTAMP:20260423T010901
DTSTART:20230503T120000
DTEND:20230503T130000
SUMMARY:Lunch & Learn on Hospice Myths
END:VEVENT
BEGIN:VEVENT
UID:265f300b3f545743b0115d51ee49e825@solspace.com
DTSTAMP:20260423T010901
DTSTART:20230726T113000
DTEND:20230726T133000
SUMMARY:City of Laramie Wellness Fair
END:VEVENT
BEGIN:VEVENT
UID:318dbf1873ad014c0894237174b2b004@solspace.com
DTSTAMP:20260423T010901
DTSTART:20230831T160000
DTEND:20230831T190000
SUMMARY:Back to School Bash - Ivinson Booth
END:VEVENT
BEGIN:VEVENT
UID:0b1233dbdd84a7e2b9ea0b8db3b75d7f@solspace.com
DTSTAMP:20260423T010901
DTSTART:20231113T120000
DTEND:20231113T130000
SUMMARY:Lunch and Learn: Orthopedic Patient Flow
END:VEVENT
BEGIN:VEVENT
UID:be5e7f11315c575596312eef67101bc1@solspace.com
DTSTAMP:20260423T010901
DTSTART:20231202T080000
DTEND:20231202T120000
SUMMARY:Breakfast with Santa - Sponsored by Ivinson
END:VEVENT
BEGIN:VEVENT
UID:7831879b6005373a5fc52abfc69ae296@solspace.com
DTSTAMP:20260423T010901
DTSTART;VALUE=DATE:20240101
DTEND;VALUE=DATE:20240102
SUMMARY:New Year's Day
END:VEVENT
BEGIN:VEVENT
UID:260a6ebea2edc330b5ad07a5a261aacd@solspace.com
DTSTAMP:20260423T010901
DTSTART:20240207T171500
DTEND:20240207T181500
RRULE:FREQ=MONTHLY;COUNT=112;BYDAY=1WE
SUMMARY:Cancer Crusaders Club
END:VEVENT
BEGIN:VEVENT
UID:11a08da6bc863ed7af064b8298ecb1ec@solspace.com
DTSTAMP:20260423T010901
DTSTART:20240319T173000
DTEND:20240319T183000
RRULE:FREQ=WEEKLY;UNTIL=20240514T235959Z;BYDAY=TU,TH
SUMMARY:Surviving and Thriving After Cancer (STAC)
END:VEVENT
BEGIN:VEVENT
UID:6b6b36a8a6a8aea42546bcbc9b5871cd@solspace.com
DTSTAMP:20260423T010901
DTSTART;VALUE=DATE:20240424
DTEND;VALUE=DATE:20240425
RRULE:FREQ=YEARLY;BYDAY=-1WE;BYMONTH=4
SUMMARY:National Denim Day
END:VEVENT
BEGIN:VEVENT
UID:06d03001f7e37a18e9d35fc08814f32e@solspace.com
DTSTAMP:20260423T010901
DTSTART:20240713T093000
DTEND:20240713T110000
SUMMARY:Jubilee Days Parade
END:VEVENT
BEGIN:VEVENT
UID:722d8626e2d178d339bf2eeb7ba8e6d0@solspace.com
DTSTAMP:20260423T010901
DTSTART:20240802T090000
DTEND:20240802T113000
SUMMARY:Breastival 2024 - Ivinson Booth
END:VEVENT
BEGIN:VEVENT
UID:df5bea57fde8c0725286690ec35b9306@solspace.com
DTSTAMP:20260423T010901
DTSTART:20240806T140000
DTEND:20240806T163000
SUMMARY:Feeding Laramie Valley - Mobile Market at Ivinson
END:VEVENT
BEGIN:VEVENT
UID:71d3056b1b233e50ad796027f368d9ff@solspace.com
DTSTAMP:20260423T010901
DTSTART:20240813T140000
DTEND:20240813T163000
SUMMARY:Feeding Laramie Valley - Mobile Market at Ivinson
END:VEVENT
BEGIN:VEVENT
UID:50552991d8f47aecb17be1e98354754d@solspace.com
DTSTAMP:20260423T010901
DTSTART:20240820T140000
DTEND:20240820T163000
SUMMARY:Feeding Laramie Valley - Mobile Market at Ivinson
END:VEVENT
BEGIN:VEVENT
UID:157b2c5b9f8b362eb58d295dc723fe30@solspace.com
DTSTAMP:20260423T010901
DTSTART:20240827T140000
DTEND:20240827T163000
SUMMARY:Feeding Laramie Valley - Mobile Market at Ivinson
END:VEVENT
BEGIN:VEVENT
UID:7545c098c5efe6c0e02ea3da49cf0fa0@solspace.com
DTSTAMP:20260423T010901
DTSTART:20240903T140000
DTEND:20240903T163000
SUMMARY:Feeding Laramie Valley - Mobile Market at Ivinson
END:VEVENT
BEGIN:VEVENT
UID:8ec7d318be069ca49005fd0c14fa77e9@solspace.com
DTSTAMP:20260423T010901
DTSTART:20240910T140000
DTEND:20240910T163000
SUMMARY:Feeding Laramie Valley - Mobile Market at Ivinson
END:VEVENT
BEGIN:VEVENT
UID:c6b9b8f11ae997bbee465669e405c24d@solspace.com
DTSTAMP:20260423T010901
DTSTART:20240917T140000
DTEND:20240917T163000
SUMMARY:Feeding Laramie Valley - Mobile Market at Ivinson
END:VEVENT
BEGIN:VEVENT
UID:6840b77fd189116a29a3399b688f8c32@solspace.com
DTSTAMP:20260423T010901
DTSTART:20240924T140000
DTEND:20240924T163000
SUMMARY:Feeding Laramie Valley - Mobile Market at Ivinson
END:VEVENT
BEGIN:VEVENT
UID:ef48241ea6e5b8741d1d9cb2ce0f0892@solspace.com
DTSTAMP:20260423T010901
DTSTART:20240827T133000
DTEND:20240827T163000
SUMMARY:Blood Drive
END:VEVENT
BEGIN:VEVENT
UID:a8cc65b54e5e6bfa9f0dacd3e4ae9eb9@solspace.com
DTSTAMP:20260423T010901
DTSTART:20250218T133000
DTEND:20250218T163000
SUMMARY:Blood Drive
END:VEVENT
BEGIN:VEVENT
UID:e721f7c13b071ed6fbca4a87d69ece52@solspace.com
DTSTAMP:20260423T010901
DTSTART:20240903T070000
DTEND:20240903T080000
RRULE:FREQ=MONTHLY;BYDAY=1TU
SUMMARY:5 for 5 Connection Challenge - AM
END:VEVENT
BEGIN:VEVENT
UID:3b086bff9a00ab055d764789335a294a@solspace.com
DTSTAMP:20260423T010901
DTSTART:20240918T140000
DTEND:20240918T150000
RRULE:FREQ=MONTHLY;BYDAY=3WE
SUMMARY:5 for 5 Connection Challenge - PM
END:VEVENT
BEGIN:VEVENT
UID:6dd2ae726f27c6cc9b4769ba0174eba0@solspace.com
DTSTAMP:20260423T010901
DTSTART:20240921T080000
DTEND:20240921T120000
SUMMARY:Walk to End Alzheimer's - Ivinson Sponsor
END:VEVENT
BEGIN:VEVENT
UID:2922465f8d94af29228829d59cef5d19@solspace.com
DTSTAMP:20260423T010901
DTSTART:20240926T170000
DTEND:20240926T193000
SUMMARY:United Way Kickoff & Business After Hours at Ivinson
END:VEVENT
BEGIN:VEVENT
UID:41b7db499d5d442b81efe9c74208aac9@solspace.com
DTSTAMP:20260423T010901
DTSTART:20241018T180000
DTEND:20241018T190000
SUMMARY:Laramie High School Plainsmen Football - Ivinson Sponsored Game
END:VEVENT
BEGIN:VEVENT
UID:fe6298f07d8cffb866b8c2164b6402f8@solspace.com
DTSTAMP:20260423T010901
DTSTART:20241019T100000
DTEND:20241019T113000
SUMMARY:BooFest on the Big Screen - 10am
END:VEVENT
BEGIN:VEVENT
UID:94ce3f932fc9f7012352441e82e65c4d@solspace.com
DTSTAMP:20260423T010901
DTSTART:20241025T163000
DTEND:20241025T183000
SUMMARY:WWAMI Research Symposium 2024
END:VEVENT
BEGIN:VEVENT
UID:b5cdc5715f217e7126bcf440e7208618@solspace.com
DTSTAMP:20260423T010901
DTSTART:20241109T090000
DTEND:20241109T140000
SUMMARY:Pinecone Gift Shop Holiday Open House 2024
END:VEVENT
BEGIN:VEVENT
UID:3aeddf92ffbb5e6a320c43830a6b451b@solspace.com
DTSTAMP:20260423T010901
DTSTART:20241207T153000
DTEND:20241207T180000
SUMMARY:UW Club Hockey - Ivinson Sponsored Game
END:VEVENT
BEGIN:VEVENT
UID:48cd4f7067f018529a3c82fc098de0c0@solspace.com
DTSTAMP:20260423T010901
DTSTART;VALUE=DATE:20241225
DTEND;VALUE=DATE:20241226
SUMMARY:Christmas Day
END:VEVENT
BEGIN:VEVENT
UID:28e27b8fc4f2426357c9f26394b11dc7@solspace.com
DTSTAMP:20260423T010901
DTSTART:20250219T171500
DTEND:20250219T190000
SUMMARY:Nursing Recruitment Open House
END:VEVENT
BEGIN:VEVENT
UID:656dcdf35225c6fe406caab89104500d@solspace.com
DTSTAMP:20260423T010901
DTSTART:20250604T100000
DTEND:20250604T120000
SUMMARY:Emergency Department Ribbon Cutting + Dedication
END:VEVENT
BEGIN:VEVENT
UID:840925b6d5509e39c567af60debd6608@solspace.com
DTSTAMP:20260423T010901
DTSTART:20250627T150000
DTEND:20250627T190000
SUMMARY:Downtown Farmers Market - Ivinson Booth
END:VEVENT
BEGIN:VEVENT
UID:b2b7b1c4909d03fd4cf57463746e0fba@solspace.com
DTSTAMP:20260423T010901
DTSTART:20250725T160000
DTEND:20250725T190000
SUMMARY:Downtown Farmers Market - Ivinson Booth
END:VEVENT
BEGIN:VEVENT
UID:3e73453fea5254c0c0e09be2e3ec5edb@solspace.com
DTSTAMP:20260423T010901
DTSTART:20250829T150000
DTEND:20250829T190000
SUMMARY:Downtown Farmers Market - Ivinson Booth
END:VEVENT
BEGIN:VEVENT
UID:69b466a03fa599b8102d946493f8c61e@solspace.com
DTSTAMP:20260423T010901
DTSTART:20250913T090000
DTEND:20250913T110000
SUMMARY:Cowboy Breakfast
END:VEVENT
BEGIN:VEVENT
UID:9c3f3b8a181eb0566c6c89c545463b7f@solspace.com
DTSTAMP:20260423T010901
DTSTART:20250926T150000
DTEND:20250926T190000
SUMMARY:Downtown Farmers Market - Ivinson Booth
END:VEVENT
BEGIN:VEVENT
UID:10eaf69e58a09f5555497dab849ae628@solspace.com
DTSTAMP:20260423T010901
DTSTART:20250927T093000
DTEND:20250927T103000
SUMMARY:Walk to End Alzheimer's
END:VEVENT
BEGIN:VEVENT
UID:9d6f4ca390613ba2d1644d1647e7226e@solspace.com
DTSTAMP:20260423T010901
DTSTART:20251007T173000
DTEND:20251007T210000
SUMMARY:Vera Bradley Bingo 2025
END:VEVENT
BEGIN:VEVENT
UID:6cee929f7b4b86db137ef138bcc8b9dc@solspace.com
DTSTAMP:20260423T010901
DTSTART:20251008T180000
DTEND:20251008T210000
SUMMARY:Bras With A Cause 2025
END:VEVENT
BEGIN:VEVENT
UID:9b4f2495bb464edea25434c56b2a8038@solspace.com
DTSTAMP:20260423T010901
DTSTART:20251018T100000
DTEND:20251018T120000
SUMMARY:BooFest on the Big Screen - Shrek
END:VEVENT
BEGIN:VEVENT
UID:61a0bcde99acdd2833d5dc7e35e06d59@solspace.com
DTSTAMP:20260423T010901
DTSTART:20260117T110000
DTEND:20260117T130000
SUMMARY:Bounce Cancer Walk & Cowgirls Basketball Game
END:VEVENT
BEGIN:VEVENT
UID:ec471335fbc9c8b9dc648625122e041e@solspace.com
DTSTAMP:20260423T010901
DTSTART;VALUE=DATE:20260206
DTEND;VALUE=DATE:20260207
SUMMARY:Wear Red Day
END:VEVENT
BEGIN:VEVENT
UID:2d268bd472f0307eceb157e44ec508ec@solspace.com
DTSTAMP:20260423T010901
DTSTART:20260225T180000
DTEND:20260225T193000
SUMMARY:Ivinson Sponsored LHS Basketball Game
END:VEVENT
BEGIN:VEVENT
UID:1c4f73f1ba41dbf3094bf601a89de3e7@solspace.com
DTSTAMP:20260423T010901
DTSTART:20260311T150000
DTEND:20260311T170000
SUMMARY:Auxiliary 75 Year Celebration
END:VEVENT
END:VCALENDAR